BEGIN:VCALENDAR
VERSION:2.0
PRODID:-//Library Market//iCal Export//EN
BEGIN:VEVENT
SUMMARY:Pickleball Games
UID:8213
DTSTAMP:20260424T120600Z
DTSTART:20260506T230000Z
DTEND:20260507T000000Z
LOCATION:Youth Sports Complex, 107 N Ben Wilson, Victoria, TX 77901, Unite
 d States
ROOM: Pickleball Games
DESCRIPTION:Get active with us at the Youth Sports Complex-Pickleball Cour
 ts (107 N Ben Wilson St) as we go over the basics of Pickleball, learn abo
 ut the Pickleball kits we have available to check out at the library and m
 ake new friends while playing a fun new sport! Open to all ages and skill
  levels.
URL:https://victoriapl.librarycalendar.com/event/pickleball-games-8213
END:VEVENT
END:VCALENDAR
