BEGIN:VCALENDAR
VERSION:2.0
PRODID:-//Library Market//iCal Export//EN
BEGIN:VEVENT
SUMMARY:VPL Jams: The Magpies
UID:8138
DTSTAMP:20260425T154500Z
DTSTART:20260523T000000Z
DTEND:20260523T010000Z
LOCATION:Victoria Public Library, 302 N. Main Street, Victoria, TX 77901, 
 United States
ROOM: Meeting Room B
DESCRIPTION:VPL Jams is a monthly live music series highlighting the Cross
 roads music scene!Come out and see the Magpies - a dynamic duo that does i
 t all! Between the two of them, they’ll be cycling through keyboards, gu
 itars, and harmonicas, all backed by soaring dual vocals.Whether you’re 
 a fan of soulful Country, timeless Oldies, cozy Folk, or chart-topping Pop
 , they’ve got a setlist that hits all the right notes. There is truly so
 mething for everyone, so grab a seat and let&#039;s jam!
URL:https://victoriapl.librarycalendar.com/event/adult-program-8138
END:VEVENT
END:VCALENDAR
