BEGIN:VCALENDAR
VERSION:2.0
PRODID:-//Library Market//iCal Export//EN
BEGIN:VEVENT
SUMMARY:Fun Friday - Castanets
UID:7546
DTSTAMP:20260425T163000Z
DTSTART:20260508T150000Z
DTEND:20260508T160000Z
LOCATION:Victoria Public Library, 302 N. Main Street, Victoria, TX 77901, 
 United States
ROOM: Meeting Room A
DESCRIPTION:Join us for a fun creative or physical activity every Friday m
 orning from 10 to 11am. We&#039;ll be offering a different activity each w
 eek, from coloring to chair yoga to arts and crafts. Come meet new people 
 while enjoying a fun and engaging activity.Join us for a fun craft where w
 e make custom castanets or &quot;clackers&quot;!
URL:https://victoriapl.librarycalendar.com/event/fun-friday-7546
END:VEVENT
END:VCALENDAR
