BEGIN:VCALENDAR
VERSION:2.0
PRODID:-//Library Market//iCal Export//EN
BEGIN:VEVENT
SUMMARY:Baddie Basics: Hair Styling Guide with Angie Knix, Hair Artist
UID:8055
DTSTAMP:20260425T163000Z
DTSTART:20260504T223000Z
DTEND:20260505T000000Z
LOCATION:Victoria Public Library, 302 N. Main Street, Victoria, TX 77901, 
 United States
ROOM: Meeting Room A
DESCRIPTION:Your hair is your best accessory, so start treating it like on
 e! We’re hosting local hair artist Angie Knix for a deep dive into the 
 Baddie Basics. Whether you’re struggling with heat styling, or wanting a
 n easy (but cute) lazy day hairstyle, we’ve got you covered.
URL:https://victoriapl.librarycalendar.com/index.php/event/adult-program-8
 055
END:VEVENT
END:VCALENDAR
