BEGIN:VCALENDAR
VERSION:2.0
PRODID:-//Library Market//iCal Export//EN
BEGIN:VEVENT
SUMMARY:Self-Care with Mid-Coast Family Services
UID:7724
DTSTAMP:20260425T154500Z
DTSTART:20260506T223000Z
DTEND:20260506T233000Z
LOCATION:Victoria Public Library, 302 N. Main Street, Victoria, TX 77901, 
 United States
ROOM: Meeting Room A
DESCRIPTION:Join us for a self-care activity fit for all ages. We will be 
 writing &quot;open when&quot; letters. Giving us a note from our present s
 elf to open when we need a positive message. We will also decorate clothes
  pins with positive affirmations to pin onto people we want to uplift. We 
 will also talk about self-care tips for even the busiest people!
URL:https://victoriapl.librarycalendar.com/index.php/event/mid-coast-self-
 care-7724
END:VEVENT
END:VCALENDAR
