BEGIN:VCALENDAR
VERSION:2.0
PRODID:-//Library Market//iCal Export//EN
BEGIN:VEVENT
SUMMARY:Fun Friday - Chair Yoga
UID:7547
DTSTAMP:20260425T163000Z
DTSTART:20260515T150000Z
DTEND:20260515T160000Z
LOCATION:Victoria Public Library, 302 N. Main Street, Victoria, TX 77901, 
 United States
ROOM: Meeting Room A
DESCRIPTION:Join us for a fun creative or physical activity every Friday m
 orning from 10 to 11am. We&#039;ll be offering a different activity each w
 eek, from coloring to chair yoga to arts and crafts. Come meet new people 
 while enjoying a fun and engaging activity.Chair yoga is a gentle form of 
 yoga that helps improve stability, flexibility, and reduce stress. Led by 
 Citizen&#039;s Health Plex instructor, Sharon Elder. 
URL:https://victoriapl.librarycalendar.com/index.php/event/fun-friday-7547
END:VEVENT
END:VCALENDAR
