BEGIN:VCALENDAR
VERSION:2.0
PRODID:-//Library Market//iCal Export//EN
BEGIN:VEVENT
SUMMARY:Fun Friday - Button Flowers
UID:7532
DTSTAMP:20260424T120600Z
DTSTART:20260522T150000Z
DTEND:20260522T160000Z
LOCATION:Victoria Public Library, 302 N. Main Street, Victoria, TX 77901, 
 United States
ROOM: Meeting Room B
DESCRIPTION:Join us for a fun creative or physical activity every Friday m
 orning from 10 to 11am. We&#039;ll be offering a different activity each w
 eek, from coloring to chair yoga to arts and crafts. Come meet new people 
 while enjoying a fun and engaging activity.Today we&#039;ll be crafting bu
 tton flowers!
URL:https://victoriapl.librarycalendar.com/index.php/event/fun-friday-7532
END:VEVENT
END:VCALENDAR
