BEGIN:VCALENDAR
VERSION:2.0
PRODID:-//Library Market//iCal Export//EN
BEGIN:VEVENT
SUMMARY:Texas A&amp;M AgriLife Extension: Cooking Well Texas Meets Mediter
 ranean
UID:6397
DTSTAMP:20260424T053000Z
DTSTART:20260505T223000Z
DTEND:20260505T233000Z
LOCATION:Victoria Public Library, 302 N. Main Street, Victoria, TX 77901, 
 United States
ROOM: Meeting Room B
DESCRIPTION:Cooking Well Texas Meets Mediterranean introduces the health b
 enefits of the Mediterranean diet and teaches you how to incorporate these
  principles into your kitchen. Through three lessons, you will:Learn abou
 t simple swaps that can be made to familiar recipes to make them healthier
 .Practice making healthy choices through hands-on activities; andExplore r
 ecipes inspired by the Mediterranean diet.
URL:https://victoriapl.librarycalendar.com/index.php/event/agrilife-progra
 m-6397
END:VEVENT
END:VCALENDAR
